BEGIN:VCALENDAR
VERSION:2.0
PRODID:Imitheme.com 
BEGIN:VEVENT
UID:20260423T161845801410003
DTSTAMP;TZID=UTC:2026-04-23 16:18:45
DTSTART;TZID=America/Los_Angeles:20260710T000000
DTEND;TZID=America/Los_Angeles:20260710T000000
SUMMARY:The recipe of healing
LOCATION:Solid Rock Baptist Church
DESCRIPTION:
URL:https://thesolidrockbaptistchurch.com/eventer/the-recipe-of-healing/
END:VEVENT
END:VCALENDAR
