BEGIN:VCALENDAR
VERSION:2.0
PRODID:Imitheme.com 
BEGIN:VEVENT
UID:20260423T1337222142153701
DTSTAMP;TZID=UTC:2026-04-23 13:37:22
DTSTART;TZID=America/Los_Angeles:20260520T000000
DTEND;TZID=America/Los_Angeles:20260520T000000
SUMMARY:Service of Celebration
LOCATION:Solid Rock Baptist Church
DESCRIPTION:
URL:https://thesolidrockbaptistchurch.com/eventer/service-of-celebration/
END:VEVENT
END:VCALENDAR
